BEGIN:VCALENDAR
VERSION:2.0
PRODID:-//wp-events-plugin.com//7.2.3.1//EN
BEGIN:VEVENT
UID:20@synagoge-ahrweiler.eu
DTSTART:20191110T170000Z
DTEND:20191110T170000Z
DTSTAMP:20190821T170259Z
URL:https://synagoge-ahrweiler.eu/events/2390/
SUMMARY: Ryan Young & Jenn Butterworth
DESCRIPTION:Ryan Young und Jenn Butterworth – ein „Match made in heaven
 “. Wenn passioniertes Geigenspiel auf virtuoses Gitarrenspiel trifft\, d
 ann fliegen die Funken. Das Spiel der mehrfach ausgezeichneten MusikerInne
 n ist geprägt von hoher Sensibilität und Leidenschaft und beeindruckt du
 rch frische Klangbilder\, energiegeladene Rhythmik und hohe Dynamik und Pr
 äzision. Doch Jenn Butterworth ist nicht nur eine begnadete Gitarristin\,
  sondern gibt auch wunderschöne Balladen zum Besten – für ein facetten
 reiches und aufregendes Konzerterlebnis ist gesorgt.\n\n\n\nMit zahllosen 
 Nominierungen und Auszeichnungen gehört Ryan zu den führenden Fiddlern S
 chottlands. Sein ganz eigener Stil hat ihm hohe Anerkennung - nicht zuletz
 t von Folk-Ikonen wie Dennis Cahill – eingetragen. Im Februar 2018 gasti
 erte er mit der Young Scots Trad Awards Winner Tour in 19 deutschen Städt
 en und war der erklärte Publikumsliebling! Jenn ist eine der führenden F
 olkgitarristInnen der Akustikmusikzene Großbritanniens und stand bereits 
 mit vielen namhaften KünstlerInnen der Szene auf der Bühne. Sowohl Jenn 
 als auch Ryan sind bereits weltweit getourt und haben auf zahlreichen reno
 mmierten Festivals gespielt.Ende 2018 wurden Ryan Young &amp\; Jenn Butter
 worth bei den MG ALBA Scots Trad Music Awards 2018 als Folk-Band des Jahre
 s nominiert.\n\n\n\nPlätze können telefonisch (0171 4926236\, Petra Eise
 nburger) oder per E-Mail (petra.eisenburger@concert-connections.com) reser
 viert werden.\n\n
END:VEVENT
END:VCALENDAR