BEGIN:VCALENDAR
VERSION:2.0
PRODID:-//wp-events-plugin.com//7.2.3.1//EN
BEGIN:VEVENT
UID:16@synagoge-ahrweiler.eu
DTSTART;VALUE=DATE:20190316
DTEND;VALUE=DATE:20190324
DTSTAMP:20190308T115323Z
URL:https://synagoge-ahrweiler.eu/events/2386/
SUMMARY:Ausstellung der ARE-Gilde
DESCRIPTION:\n\n„Das Gesicht Europas“\n\nDie Ahr Gilde ist eine Künstl
 ervereinigung\, die nun bereits 77 Jahre besteht.\nIn der schweren Zeit na
 ch der Gründung 1941 hat der Künstlerbund seinen Zusammenhalt\, seine to
 lerante Haltung gegenüber Mensch und Kultur nicht verloren und in der Nac
 hkriegszeit mit einer Neugründung der Gilde neue Aktivitäten entfaltet. 
 Bis heute ist sie hoch aktiv und bildet zahlreichen Künstlern ein Podium\
 , ihre Werke wie Gemälde\, Skulpturen\, Kunstfotografien sowie Dichtkunst
  und Musik der Öffentlichkeit zu präsentieren.\n\n&nbsp\;
END:VEVENT
END:VCALENDAR