BEGIN:VCALENDAR
VERSION:2.0
PRODID:-//wp-events-plugin.com//7.2.3.1//EN
BEGIN:VEVENT
UID:15@synagoge-ahrweiler.eu
DTSTART:20190310T170000Z
DTEND:20190310T190000Z
DTSTAMP:20190110T152105Z
URL:https://synagoge-ahrweiler.eu/events/2385/
SUMMARY:TRIO Faustus - Bloke Folk from England
DESCRIPTION:[caption id="attachment_2210" align="alignnone" width="485"] FO
 TO: Luke Pajac[/caption]\n\nTRIO Faustus - Bloke Folk from England - Gewin
 ner des Preises der Deutschen Schallplattenkritik\n\n\nFür ihr neues Albu
 m haben die drei Musiker von Faustus den Preis der Deutschen Schallplatten
 kritik erhalten... Da heißt es "Folk für ganze Kerle\, die mit handfeste
 n Rhythmen umgehen können\, ihre Instrumente Fiddle\, Harmonika und Gitar
 ren virtuos beherrschen und im schönsten Harmoniegesang sogar dem Tod tro
 tzen\, der am Ende zum merry dance auffordert. Großartig!"\n\nAls "eine d
 er herausragenden Folkbands Englands" bezeichnet "The Guardian" die drei M
 usiker\, die mit fantastischen Harmonien und ausgeklügelten Arrangements 
 englischer Folksongs beeindrucken und für ein umwerfendes Konzerterlebnis
  sorgen.\nGerade live auf Tournee in Deutschland gewesen – mitreißend!\
 n\nPromo-Video: https://www.youtube.com/watch?v=XS1r3hPGDAI\nWebsite: www.
 faustusband.co.uk\nFacebook: https://www.facebook.com/faustusmusic\nTwitte
 r: www.twitter.com/faustusfolk\n\nhttps://www.youtube.com/watch?v=XS1r3hPG
 DAI&amp\;authuser=0
END:VEVENT
END:VCALENDAR