BEGIN:VCALENDAR
VERSION:2.0
PRODID:-//wp-events-plugin.com//7.2.3.1//EN
BEGIN:VEVENT
UID:14@synagoge-ahrweiler.eu
DTSTART:20190214T183000Z
DTEND:20190214T210000Z
DTSTAMP:20180912T174319Z
URL:https://synagoge-ahrweiler.eu/events/2384/
SUMMARY:Duo Burstein & Legnani - Virtuose Musik für Cello und Gitarre
DESCRIPTION:[caption id="attachment_2328" align="alignnone" width="426"] Fo
 to: Markus Weiler[/caption]\n\nAriana Burstein und Roberto Legnani sind wi
 eder gemeinsam auf Tournee. Das seit über zwei Dekaden beständig erfolgr
 eiche Duo präsentiert 2109 ein neues Programm mit selbst kreierten Arrang
 ements für Cello und Gitarre: Ein phänomenales Hörerlebnis\, ein spanne
 ndes Konzert mit einer Vielfalt aus Klassik und Weltmusik sowie formvollen
 dete Eigenkompositionen. Im harmonischen Dialog mit den Kulturen verschmel
 zen die verschiedenen Epochen und Genres und führen das Publikum in eine 
 magische Welt der Klänge. Geboten wird Musik von ergreifender Schönheit\
 , die Zärtlichkeit\, Sinnlichkeit\, Freude\, Leidenschaft und Melancholie
  verkörpert. Zur Aufführung kommen Meisterwerke u. a. von Turlough O’C
 arolan\, Thomas Moore\, Antonio Vivaldi\, Enrique Granados und Mauro Giuli
 ani sowie eine feine Arrangement-Auswahl beliebter irisch-keltischer\, spa
 nischer und lateinamerikanischer Musik. Leidenschaftliche Melodien\, pulsi
 erende Rhythmen und alte Stilelemente erklingen in einem kunstvoll neuen G
 ewand: Musik aus dem maurischen Mittelalter\, hinführend ins 21. Jahrhund
 ert\, mit fließenden Grenzen zwischen abendländischer\, orientalischer\,
  asiatischer und jüdischer Kultur.\n\nEintrittspreise: € 20\,- Normalpr
 eis\n€ 16\,- Ermäßigt. (Schüler\, Studenten\, Menschen mit Behinderun
 g und Mitglieder des Bürgervereins Synagoge Ahrweiler e. V.)Eintrittskart
 en gibt es an der Abendkasse ab 19 Uhr.\nWeitere Infos und Ticketreservier
 ung: www.tourneebuero-cunningham.com und Tel. 07852 - 93 30 34.
END:VEVENT
END:VCALENDAR