BEGIN:VCALENDAR
VERSION:2.0
PRODID:-//wp-events-plugin.com//7.2.3.1//EN
BEGIN:VEVENT
UID:13@synagoge-ahrweiler.eu
DTSTART:20190209T190000Z
DTEND:20190209T213000Z
DTSTAMP:20190123T173251Z
URL:https://synagoge-ahrweiler.eu/events/2383/
SUMMARY:Northern Light – modern Folk
DESCRIPTION:  Foto: Northern Light\n\nNorthern Light spielt Folk aus Irlan
 d\, Schottland\, Schweden und natürlich jede Menge eigene  Kompositionen
 . Frisch zusammengestellt und in ein spannendes Liveprogramm verpackt\, er
 wartet den Zuhörer ein Abend voller mitreißender Songs und überraschend
 er Arrangements. Der Northern Light Sound wird dabei vor allem durch die e
 indrückliche Stimme der  Sängerin und das komplexe Zusammenspiel von F
 lute\, Fiddle und Akkordeon geprägt. Diese vier Musiker mit international
 er Bühnenerfahrung gehen ganz neue Wege in der Folkmusik - und freuen sic
 h darauf\,\nSie bei einem ihrer Live-Konzerte begrüßen zu dürfen!\n\nKo
 nzertbeginn 20 Uhr\, Einlass 19:30 Uhr\, Eintritt 12 EUR\, ermäßigt 10 E
 UR (Schüler\, Studenten\, Menschen mit Behinderung und Mitglieder des Bü
 rgervereins Synagoge Ahrweiler e. V.)  Karten an der Abendkasse oder Vorb
 estellung unter\nhttps://www.northernlight-music.de/vvk-ahrweiler/\nWeiter
 e Infos und Videos:     www.northernlight-music.de
ATTACH;FMTTYPE=image/jpeg:https://synagoge-ahrweiler.eu/wp-content/uploads
 /2018/08/nl.jpg
END:VEVENT
END:VCALENDAR