BEGIN:VCALENDAR
VERSION:2.0
PRODID:-//wp-events-plugin.com//7.2.3.1//EN
BEGIN:VEVENT
UID:11@synagoge-ahrweiler.eu
DTSTART:20190111T183000Z
DTEND:20190111T183000Z
DTSTAMP:20190103T174634Z
URL:https://synagoge-ahrweiler.eu/events/2381/
SUMMARY:Ríona Ó Madagáin & Matt Griffin
DESCRIPTION: \n\nRíona Ó Madagáin &amp\; Matt Griffin\nSängerin/Songwri
 terin aus Irland\n\n\n\n\nDie charmante Sängerin/Songwriterin Ríona Ó M
 adagáin aus dem irischen Dingle kommt wieder nach Deutschland – sie hat
  neue Lieder im Gepäck\, darunter auch beeindruckende Eigenkompositionen.
 \nUnd wieder wird sie mit ihrer sanften Art und betörenden Stimme gemeins
 am mit Matt Griffin an der Gitarre und am Bass ihr Publikum verzaubern. In
 spiriert von KünstlerInnen wie Nina Simone\, Glen Hansard und Joni Mitche
 ll hat Ríona ihren ganz eigenen Gesangsstil gefunden – poetisch\, berü
 hrend\, schwebend. Der musikalische Zauber klingt noch lange nach dem Konz
 ert nach… Mit 17 zog Ríona in das Musikmekka Dingle in der irischen Gra
 fschaft Kerry\, arbeitete mit zahlreichen MusikerInnen zusammen und schrie
 b und performte vor allem ihre eigenen Songs. Ríona wirkte beim weltberü
 hmten Dingle-Festival „Other Voices“ mit und performte u.a. auch in De
 rry\, London und New York. Sie stand bereits gemeinsam mit Sharon Shannon\
 , Maria Doyle Kennedy und Jack L. auf der Bühne!\n\nMatt Griffin ist beli
 ebter Begleitgitarrist und tourte mit irischen FolkmusikerInnen wie Theres
 a Horgan\, Méabh Begley\, Séamus Begley\, Dezi Donnelly (Toss the Feathe
 rs\, Michael McGoldrick Band)\, Niamh Ní Charra und den Chieftains. Er is
 t ebenfalls Veranstalter des „Dingle FolkFest“\, ein Festival\, das je
 den Herbst in Dingle stattfindet.\n\n
CATEGORIES:Konzert
END:VEVENT
END:VCALENDAR